BEGIN:VCALENDAR
VERSION:2.0
PRODID:-//East Cornwall Harriers - ECPv6.15.20//NONSGML v1.0//EN
CALSCALE:GREGORIAN
METHOD:PUBLISH
X-ORIGINAL-URL:https://eastcornwallharriers.com
X-WR-CALDESC:Events for East Cornwall Harriers
REFRESH-INTERVAL;VALUE=DURATION:PT1H
X-Robots-Tag:noindex
X-PUBLISHED-TTL:PT1H
BEGIN:VTIMEZONE
TZID:Europe/London
BEGIN:DAYLIGHT
TZOFFSETFROM:+0000
TZOFFSETTO:+0100
TZNAME:BST
DTSTART:20210328T010000
END:DAYLIGHT
BEGIN:STANDARD
TZOFFSETFROM:+0100
TZOFFSETTO:+0000
TZNAME:GMT
DTSTART:20211031T010000
END:STANDARD
BEGIN:DAYLIGHT
TZOFFSETFROM:+0000
TZOFFSETTO:+0100
TZNAME:BST
DTSTART:20220327T010000
END:DAYLIGHT
BEGIN:STANDARD
TZOFFSETFROM:+0100
TZOFFSETTO:+0000
TZNAME:GMT
DTSTART:20221030T010000
END:STANDARD
BEGIN:DAYLIGHT
TZOFFSETFROM:+0000
TZOFFSETTO:+0100
TZNAME:BST
DTSTART:20230326T010000
END:DAYLIGHT
BEGIN:STANDARD
TZOFFSETFROM:+0100
TZOFFSETTO:+0000
TZNAME:GMT
DTSTART:20231029T010000
END:STANDARD
END:VTIMEZONE
BEGIN:VEVENT
DTSTART;VALUE=DATE:20220501
DTEND;VALUE=DATE:20220502
DTSTAMP:20260424T130751
CREATED:20220331T053836Z
LAST-MODIFIED:20220331T053836Z
UID:3541-1651363200-1651449599@eastcornwallharriers.com
SUMMARY:Trevornick
DESCRIPTION:
URL:https://eastcornwallharriers.com/event/trevornick/
END:VEVENT
BEGIN:VEVENT
DTSTART;TZID=Europe/London:20220501T080000
DTEND;TZID=Europe/London:20220501T080000
DTSTAMP:20260424T130751
CREATED:20220331T053413Z
LAST-MODIFIED:20220331T053413Z
UID:3533-1651392000-1651392000@eastcornwallharriers.com
SUMMARY:Sunday Long Run
DESCRIPTION:Meet Lux Lower Car Park – Leader(s) Chris/Clive
URL:https://eastcornwallharriers.com/event/sunday-long-run/
END:VEVENT
BEGIN:VEVENT
DTSTART;TZID=Europe/London:20220501T080000
DTEND;TZID=Europe/London:20220501T080000
DTSTAMP:20260424T130751
CREATED:20220427T055021Z
LAST-MODIFIED:20220427T055021Z
UID:3714-1651392000-1651392000@eastcornwallharriers.com
SUMMARY:Sunday Long Run 10 Miles
DESCRIPTION:Meet Lux Lower Car Park – Leader(s) Chris
URL:https://eastcornwallharriers.com/event/sunday-long-run-10-miles-3/
END:VEVENT
END:VCALENDAR