BEGIN:VCALENDAR
VERSION:2.0
PRODID:-//East Cornwall Harriers - ECPv6.15.20//NONSGML v1.0//EN
CALSCALE:GREGORIAN
METHOD:PUBLISH
X-ORIGINAL-URL:https://eastcornwallharriers.com
X-WR-CALDESC:Events for East Cornwall Harriers
REFRESH-INTERVAL;VALUE=DURATION:PT1H
X-Robots-Tag:noindex
X-PUBLISHED-TTL:PT1H
BEGIN:VTIMEZONE
TZID:Europe/London
BEGIN:DAYLIGHT
TZOFFSETFROM:+0000
TZOFFSETTO:+0100
TZNAME:BST
DTSTART:20210328T010000
END:DAYLIGHT
BEGIN:STANDARD
TZOFFSETFROM:+0100
TZOFFSETTO:+0000
TZNAME:GMT
DTSTART:20211031T010000
END:STANDARD
BEGIN:DAYLIGHT
TZOFFSETFROM:+0000
TZOFFSETTO:+0100
TZNAME:BST
DTSTART:20220327T010000
END:DAYLIGHT
BEGIN:STANDARD
TZOFFSETFROM:+0100
TZOFFSETTO:+0000
TZNAME:GMT
DTSTART:20221030T010000
END:STANDARD
BEGIN:DAYLIGHT
TZOFFSETFROM:+0000
TZOFFSETTO:+0100
TZNAME:BST
DTSTART:20230326T010000
END:DAYLIGHT
BEGIN:STANDARD
TZOFFSETFROM:+0100
TZOFFSETTO:+0000
TZNAME:GMT
DTSTART:20231029T010000
END:STANDARD
END:VTIMEZONE
BEGIN:VEVENT
DTSTART;VALUE=DATE:20220911
DTEND;VALUE=DATE:20220912
DTSTAMP:20260422T003836
CREATED:20220831T065934Z
LAST-MODIFIED:20220831T065934Z
UID:4053-1662854400-1662940799@eastcornwallharriers.com
SUMMARY:Bude Pirate Run
DESCRIPTION:
URL:https://eastcornwallharriers.com/event/bude-pirate-run/
END:VEVENT
BEGIN:VEVENT
DTSTART;VALUE=DATE:20220911
DTEND;VALUE=DATE:20220912
DTSTAMP:20260422T003836
CREATED:20220831T065949Z
LAST-MODIFIED:20220831T065949Z
UID:4054-1662854400-1662940799@eastcornwallharriers.com
SUMMARY:Great North Run
DESCRIPTION:
URL:https://eastcornwallharriers.com/event/great-north-run/
END:VEVENT
BEGIN:VEVENT
DTSTART;TZID=Europe/London:20220911T080000
DTEND;TZID=Europe/London:20220911T080000
DTSTAMP:20260422T003836
CREATED:20220831T065452Z
LAST-MODIFIED:20220831T065452Z
UID:4027-1662883200-1662883200@eastcornwallharriers.com
SUMMARY:Sunday Long Run 14-15 Miles
DESCRIPTION:Meet Lux Lower Car Park – Leader(s) Tess
URL:https://eastcornwallharriers.com/event/sunday-long-run-14-15-miles/
END:VEVENT
END:VCALENDAR