BEGIN:VCALENDAR
VERSION:2.0
PRODID:-//East Cornwall Harriers - ECPv6.15.20//NONSGML v1.0//EN
CALSCALE:GREGORIAN
METHOD:PUBLISH
X-ORIGINAL-URL:https://eastcornwallharriers.com
X-WR-CALDESC:Events for East Cornwall Harriers
REFRESH-INTERVAL;VALUE=DURATION:PT1H
X-Robots-Tag:noindex
X-PUBLISHED-TTL:PT1H
BEGIN:VTIMEZONE
TZID:Europe/London
BEGIN:DAYLIGHT
TZOFFSETFROM:+0000
TZOFFSETTO:+0100
TZNAME:BST
DTSTART:20210328T010000
END:DAYLIGHT
BEGIN:STANDARD
TZOFFSETFROM:+0100
TZOFFSETTO:+0000
TZNAME:GMT
DTSTART:20211031T010000
END:STANDARD
BEGIN:DAYLIGHT
TZOFFSETFROM:+0000
TZOFFSETTO:+0100
TZNAME:BST
DTSTART:20220327T010000
END:DAYLIGHT
BEGIN:STANDARD
TZOFFSETFROM:+0100
TZOFFSETTO:+0000
TZNAME:GMT
DTSTART:20221030T010000
END:STANDARD
BEGIN:DAYLIGHT
TZOFFSETFROM:+0000
TZOFFSETTO:+0100
TZNAME:BST
DTSTART:20230326T010000
END:DAYLIGHT
BEGIN:STANDARD
TZOFFSETFROM:+0100
TZOFFSETTO:+0000
TZNAME:GMT
DTSTART:20231029T010000
END:STANDARD
END:VTIMEZONE
BEGIN:VEVENT
DTSTART;TZID=Europe/London:20221004T183000
DTEND;TZID=Europe/London:20221004T183000
DTSTAMP:20260425T234901
CREATED:20220930T064444Z
LAST-MODIFIED:20220930T064444Z
UID:4070-1664908200-1664908200@eastcornwallharriers.com
SUMMARY:5-6 Mile Run
DESCRIPTION:Meet Lux Lower Car Park – Leader(s) Clive
URL:https://eastcornwallharriers.com/event/5-6-mile-run-37/
END:VEVENT
BEGIN:VEVENT
DTSTART;TZID=Europe/London:20221004T183000
DTEND;TZID=Europe/London:20221004T183000
DTSTAMP:20260425T234901
CREATED:20220930T064448Z
LAST-MODIFIED:20220930T064448Z
UID:4078-1664908200-1664908200@eastcornwallharriers.com
SUMMARY:Adults & Juniors Intervals Session on the ROAD - Liskeard Business Park
DESCRIPTION:Meet Lux Lower Car Park – Leader(s) Chris/Tess
URL:https://eastcornwallharriers.com/event/adults-juniors-intervals-session-on-the-road-liskeard-business-park/
END:VEVENT
BEGIN:VEVENT
DTSTART;TZID=Europe/London:20221004T194500
DTEND;TZID=Europe/London:20221004T194500
DTSTAMP:20260425T234901
CREATED:20220930T064816Z
LAST-MODIFIED:20220930T064816Z
UID:4106-1664912700-1664912700@eastcornwallharriers.com
SUMMARY:Committee Meeting
DESCRIPTION:
URL:https://eastcornwallharriers.com/event/committee-meeting-12/
END:VEVENT
END:VCALENDAR