BEGIN:VCALENDAR
VERSION:2.0
PRODID:-//East Cornwall Harriers - ECPv6.15.20//NONSGML v1.0//EN
CALSCALE:GREGORIAN
METHOD:PUBLISH
X-ORIGINAL-URL:https://eastcornwallharriers.com
X-WR-CALDESC:Events for East Cornwall Harriers
REFRESH-INTERVAL;VALUE=DURATION:PT1H
X-Robots-Tag:noindex
X-PUBLISHED-TTL:PT1H
BEGIN:VTIMEZONE
TZID:Europe/London
BEGIN:DAYLIGHT
TZOFFSETFROM:+0000
TZOFFSETTO:+0100
TZNAME:BST
DTSTART:20210328T010000
END:DAYLIGHT
BEGIN:STANDARD
TZOFFSETFROM:+0100
TZOFFSETTO:+0000
TZNAME:GMT
DTSTART:20211031T010000
END:STANDARD
BEGIN:DAYLIGHT
TZOFFSETFROM:+0000
TZOFFSETTO:+0100
TZNAME:BST
DTSTART:20220327T010000
END:DAYLIGHT
BEGIN:STANDARD
TZOFFSETFROM:+0100
TZOFFSETTO:+0000
TZNAME:GMT
DTSTART:20221030T010000
END:STANDARD
BEGIN:DAYLIGHT
TZOFFSETFROM:+0000
TZOFFSETTO:+0100
TZNAME:BST
DTSTART:20230326T010000
END:DAYLIGHT
BEGIN:STANDARD
TZOFFSETFROM:+0100
TZOFFSETTO:+0000
TZNAME:GMT
DTSTART:20231029T010000
END:STANDARD
END:VTIMEZONE
BEGIN:VEVENT
DTSTART;TZID=Europe/London:20221101T183000
DTEND;TZID=Europe/London:20221101T183000
DTSTAMP:20260421T193313
CREATED:20221031T054742Z
LAST-MODIFIED:20221031T054742Z
UID:4147-1667327400-1667327400@eastcornwallharriers.com
SUMMARY:5-6 Mile Run
DESCRIPTION:Meet Lux Lower Car Park
URL:https://eastcornwallharriers.com/event/5-6-mile-run-41/
END:VEVENT
BEGIN:VEVENT
DTSTART;TZID=Europe/London:20221101T183000
DTEND;TZID=Europe/London:20221101T183000
DTSTAMP:20260421T193313
CREATED:20221031T054743Z
LAST-MODIFIED:20221031T054743Z
UID:4148-1667327400-1667327400@eastcornwallharriers.com
SUMMARY:Adults & Juniors Intervals Session on the ROAD
DESCRIPTION:Meet Lux Lower Car Park – Gipsy Lane – Leader(s) Chris/Tess
URL:https://eastcornwallharriers.com/event/adults-juniors-intervals-session-on-the-road/
END:VEVENT
BEGIN:VEVENT
DTSTART;TZID=Europe/London:20221101T194500
DTEND;TZID=Europe/London:20221101T194500
DTSTAMP:20260421T193313
CREATED:20221031T054953Z
LAST-MODIFIED:20221031T054953Z
UID:4183-1667331900-1667331900@eastcornwallharriers.com
SUMMARY:Committee Meeting
DESCRIPTION:
URL:https://eastcornwallharriers.com/event/committee-meeting-13/
END:VEVENT
END:VCALENDAR