BEGIN:VCALENDAR
VERSION:2.0
PRODID:-//East Cornwall Harriers - ECPv6.15.20//NONSGML v1.0//EN
CALSCALE:GREGORIAN
METHOD:PUBLISH
X-ORIGINAL-URL:https://eastcornwallharriers.com
X-WR-CALDESC:Events for East Cornwall Harriers
REFRESH-INTERVAL;VALUE=DURATION:PT1H
X-Robots-Tag:noindex
X-PUBLISHED-TTL:PT1H
BEGIN:VTIMEZONE
TZID:Europe/London
BEGIN:DAYLIGHT
TZOFFSETFROM:+0000
TZOFFSETTO:+0100
TZNAME:BST
DTSTART:20220327T010000
END:DAYLIGHT
BEGIN:STANDARD
TZOFFSETFROM:+0100
TZOFFSETTO:+0000
TZNAME:GMT
DTSTART:20221030T010000
END:STANDARD
BEGIN:DAYLIGHT
TZOFFSETFROM:+0000
TZOFFSETTO:+0100
TZNAME:BST
DTSTART:20230326T010000
END:DAYLIGHT
BEGIN:STANDARD
TZOFFSETFROM:+0100
TZOFFSETTO:+0000
TZNAME:GMT
DTSTART:20231029T010000
END:STANDARD
BEGIN:DAYLIGHT
TZOFFSETFROM:+0000
TZOFFSETTO:+0100
TZNAME:BST
DTSTART:20240331T010000
END:DAYLIGHT
BEGIN:STANDARD
TZOFFSETFROM:+0100
TZOFFSETTO:+0000
TZNAME:GMT
DTSTART:20241027T010000
END:STANDARD
END:VTIMEZONE
BEGIN:VEVENT
DTSTART;TZID=Europe/London:20230103T183000
DTEND;TZID=Europe/London:20230103T183000
DTSTAMP:20260421T195034
CREATED:20221130T062205Z
LAST-MODIFIED:20221130T062205Z
UID:4252-1672770600-1672770600@eastcornwallharriers.com
SUMMARY:5-6 Mile Run
DESCRIPTION:Meet Lux Lower Car Park – Leader(s) Craig
URL:https://eastcornwallharriers.com/event/5-6-mile-run-48/
END:VEVENT
BEGIN:VEVENT
DTSTART;TZID=Europe/London:20230103T183000
DTEND;TZID=Europe/London:20230103T183000
DTSTAMP:20260421T195034
CREATED:20221130T062208Z
LAST-MODIFIED:20221130T062208Z
UID:4257-1672770600-1672770600@eastcornwallharriers.com
SUMMARY:Adults & Juniors Intervals Session on the ROAD
DESCRIPTION:Meet Lux Lower Car Park – Moorland View – Leader(s) Chris/Tess
URL:https://eastcornwallharriers.com/event/adults-juniors-intervals-session-on-the-road-8/
END:VEVENT
BEGIN:VEVENT
DTSTART;TZID=Europe/London:20230103T194500
DTEND;TZID=Europe/London:20230103T194500
DTSTAMP:20260421T195034
CREATED:20221130T062920Z
LAST-MODIFIED:20221130T062920Z
UID:4293-1672775100-1672775100@eastcornwallharriers.com
SUMMARY:Coaches Meeting
DESCRIPTION:
URL:https://eastcornwallharriers.com/event/coaches-meeting-9/
END:VEVENT
END:VCALENDAR