BEGIN:VCALENDAR
VERSION:2.0
PRODID:-//East Cornwall Harriers - ECPv6.15.20//NONSGML v1.0//EN
CALSCALE:GREGORIAN
METHOD:PUBLISH
X-WR-CALNAME:East Cornwall Harriers
X-ORIGINAL-URL:https://eastcornwallharriers.com
X-WR-CALDESC:Events for East Cornwall Harriers
REFRESH-INTERVAL;VALUE=DURATION:PT1H
X-Robots-Tag:noindex
X-PUBLISHED-TTL:PT1H
BEGIN:VTIMEZONE
TZID:Europe/London
BEGIN:DAYLIGHT
TZOFFSETFROM:+0000
TZOFFSETTO:+0100
TZNAME:BST
DTSTART:20220327T010000
END:DAYLIGHT
BEGIN:STANDARD
TZOFFSETFROM:+0100
TZOFFSETTO:+0000
TZNAME:GMT
DTSTART:20221030T010000
END:STANDARD
BEGIN:DAYLIGHT
TZOFFSETFROM:+0000
TZOFFSETTO:+0100
TZNAME:BST
DTSTART:20230326T010000
END:DAYLIGHT
BEGIN:STANDARD
TZOFFSETFROM:+0100
TZOFFSETTO:+0000
TZNAME:GMT
DTSTART:20231029T010000
END:STANDARD
BEGIN:DAYLIGHT
TZOFFSETFROM:+0000
TZOFFSETTO:+0100
TZNAME:BST
DTSTART:20240331T010000
END:DAYLIGHT
BEGIN:STANDARD
TZOFFSETFROM:+0100
TZOFFSETTO:+0000
TZNAME:GMT
DTSTART:20241027T010000
END:STANDARD
END:VTIMEZONE
BEGIN:VEVENT
DTSTART;TZID=Europe/London:20230303T160000
DTEND;TZID=Europe/London:20230303T160000
DTSTAMP:20260425T144122
CREATED:20230301T061958Z
LAST-MODIFIED:20230301T062453Z
UID:4486-1677859200-1677859200@eastcornwallharriers.com
SUMMARY:Primary Schools XC
DESCRIPTION:– Bake Lake
URL:https://eastcornwallharriers.com/event/primary-schools-xc-8/
END:VEVENT
END:VCALENDAR