BEGIN:VCALENDAR
VERSION:2.0
PRODID:-//East Cornwall Harriers - ECPv6.15.20//NONSGML v1.0//EN
CALSCALE:GREGORIAN
METHOD:PUBLISH
X-WR-CALNAME:East Cornwall Harriers
X-ORIGINAL-URL:https://eastcornwallharriers.com
X-WR-CALDESC:Events for East Cornwall Harriers
REFRESH-INTERVAL;VALUE=DURATION:PT1H
X-Robots-Tag:noindex
X-PUBLISHED-TTL:PT1H
BEGIN:VTIMEZONE
TZID:Europe/London
BEGIN:DAYLIGHT
TZOFFSETFROM:+0000
TZOFFSETTO:+0100
TZNAME:BST
DTSTART:20220327T010000
END:DAYLIGHT
BEGIN:STANDARD
TZOFFSETFROM:+0100
TZOFFSETTO:+0000
TZNAME:GMT
DTSTART:20221030T010000
END:STANDARD
BEGIN:DAYLIGHT
TZOFFSETFROM:+0000
TZOFFSETTO:+0100
TZNAME:BST
DTSTART:20230326T010000
END:DAYLIGHT
BEGIN:STANDARD
TZOFFSETFROM:+0100
TZOFFSETTO:+0000
TZNAME:GMT
DTSTART:20231029T010000
END:STANDARD
BEGIN:DAYLIGHT
TZOFFSETFROM:+0000
TZOFFSETTO:+0100
TZNAME:BST
DTSTART:20240331T010000
END:DAYLIGHT
BEGIN:STANDARD
TZOFFSETFROM:+0100
TZOFFSETTO:+0000
TZNAME:GMT
DTSTART:20241027T010000
END:STANDARD
END:VTIMEZONE
BEGIN:VEVENT
DTSTART;VALUE=DATE:20230622
DTEND;VALUE=DATE:20230623
DTSTAMP:20260425T175259
CREATED:20230601T051451Z
LAST-MODIFIED:20230601T051614Z
UID:4825-1687392000-1687478399@eastcornwallharriers.com
SUMMARY:Truro Trail 10k - MTRS7 (Last race of the series)
DESCRIPTION:
URL:https://eastcornwallharriers.com/event/truro-trail-10k-mtrs7-last-race-of-the-series/
END:VEVENT
BEGIN:VEVENT
DTSTART;TZID=Europe/London:20230622T183000
DTEND;TZID=Europe/London:20230622T183000
DTSTAMP:20260425T175259
CREATED:20230601T051328Z
LAST-MODIFIED:20230601T051328Z
UID:4796-1687458600-1687458600@eastcornwallharriers.com
SUMMARY:6-7 Mile Run
DESCRIPTION:Meet Lux Lower Car Park – Leader(s) Tess
URL:https://eastcornwallharriers.com/event/6-7-mile-run-65/
END:VEVENT
END:VCALENDAR