BEGIN:VCALENDAR
VERSION:2.0
PRODID:-//East Cornwall Harriers - ECPv6.15.20//NONSGML v1.0//EN
CALSCALE:GREGORIAN
METHOD:PUBLISH
X-WR-CALNAME:East Cornwall Harriers
X-ORIGINAL-URL:https://eastcornwallharriers.com
X-WR-CALDESC:Events for East Cornwall Harriers
REFRESH-INTERVAL;VALUE=DURATION:PT1H
X-Robots-Tag:noindex
X-PUBLISHED-TTL:PT1H
BEGIN:VTIMEZONE
TZID:Europe/London
BEGIN:DAYLIGHT
TZOFFSETFROM:+0000
TZOFFSETTO:+0100
TZNAME:BST
DTSTART:20230326T010000
END:DAYLIGHT
BEGIN:STANDARD
TZOFFSETFROM:+0100
TZOFFSETTO:+0000
TZNAME:GMT
DTSTART:20231029T010000
END:STANDARD
BEGIN:DAYLIGHT
TZOFFSETFROM:+0000
TZOFFSETTO:+0100
TZNAME:BST
DTSTART:20240331T010000
END:DAYLIGHT
BEGIN:STANDARD
TZOFFSETFROM:+0100
TZOFFSETTO:+0000
TZNAME:GMT
DTSTART:20241027T010000
END:STANDARD
BEGIN:DAYLIGHT
TZOFFSETFROM:+0000
TZOFFSETTO:+0100
TZNAME:BST
DTSTART:20250330T010000
END:DAYLIGHT
BEGIN:STANDARD
TZOFFSETFROM:+0100
TZOFFSETTO:+0000
TZNAME:GMT
DTSTART:20251026T010000
END:STANDARD
END:VTIMEZONE
BEGIN:VEVENT
DTSTART;TZID=Europe/London:20240621T230000
DTEND;TZID=Europe/London:20240621T235900
DTSTAMP:20260421T104306
CREATED:20240616T154840Z
LAST-MODIFIED:20240616T154840Z
UID:6144-1719010800-1719014340@eastcornwallharriers.com
SUMMARY:Full Moon Meander - Lead by Oli - 11pm to Midnight!!
DESCRIPTION:On Friday 21st of June its a Full Moon (Strawberry Moon) and Oli Jones will be leading a moonlight run through the lanes for all abilites from 11pm to midnight\, that’s right 11pm! \nMeet at the lux park lower carpark at 11pm. \nHEAD TORCH AND HI VIS ESSENTIAL – IF YOU DON’T HAVE THEM BOTH YOU WON’T BE ABLE TO RUN. \nStrawberries and fizzy wine/water afterwards.  (Donations of strawberries and drinks welcome)
URL:https://eastcornwallharriers.com/event/full-moon-meander-lead-by-oli-11pm-to-midnight/
END:VEVENT
END:VCALENDAR