BEGIN:VCALENDAR
VERSION:2.0
PRODID:-//East Cornwall Harriers - ECPv6.15.20//NONSGML v1.0//EN
CALSCALE:GREGORIAN
METHOD:PUBLISH
X-ORIGINAL-URL:https://eastcornwallharriers.com
X-WR-CALDESC:Events for East Cornwall Harriers
REFRESH-INTERVAL;VALUE=DURATION:PT1H
X-Robots-Tag:noindex
X-PUBLISHED-TTL:PT1H
BEGIN:VTIMEZONE
TZID:Europe/London
BEGIN:DAYLIGHT
TZOFFSETFROM:+0000
TZOFFSETTO:+0100
TZNAME:BST
DTSTART:20230326T010000
END:DAYLIGHT
BEGIN:STANDARD
TZOFFSETFROM:+0100
TZOFFSETTO:+0000
TZNAME:GMT
DTSTART:20231029T010000
END:STANDARD
BEGIN:DAYLIGHT
TZOFFSETFROM:+0000
TZOFFSETTO:+0100
TZNAME:BST
DTSTART:20240331T010000
END:DAYLIGHT
BEGIN:STANDARD
TZOFFSETFROM:+0100
TZOFFSETTO:+0000
TZNAME:GMT
DTSTART:20241027T010000
END:STANDARD
BEGIN:DAYLIGHT
TZOFFSETFROM:+0000
TZOFFSETTO:+0100
TZNAME:BST
DTSTART:20250330T010000
END:DAYLIGHT
BEGIN:STANDARD
TZOFFSETFROM:+0100
TZOFFSETTO:+0000
TZNAME:GMT
DTSTART:20251026T010000
END:STANDARD
END:VTIMEZONE
BEGIN:VEVENT
DTSTART;VALUE=DATE:20240627
DTEND;VALUE=DATE:20240628
DTSTAMP:20260421T104459
CREATED:20240531T054616Z
LAST-MODIFIED:20240531T054904Z
UID:6111-1719446400-1719532799@eastcornwallharriers.com
SUMMARY:Gribbin 10k (MTRS 9)
DESCRIPTION:
URL:https://eastcornwallharriers.com/event/gribbin-10k-mtrs-9/
END:VEVENT
BEGIN:VEVENT
DTSTART;TZID=Europe/London:20240627T183000
DTEND;TZID=Europe/London:20240627T183000
DTSTAMP:20260421T104459
CREATED:20240531T054554Z
LAST-MODIFIED:20240531T054554Z
UID:6097-1719513000-1719513000@eastcornwallharriers.com
SUMMARY:6-7 Mile Run
DESCRIPTION:Meet Lux Lower Car Park – Leader(s) Craig
URL:https://eastcornwallharriers.com/event/6-7-mile-run-111/
END:VEVENT
END:VCALENDAR