BEGIN:VCALENDAR
VERSION:2.0
PRODID:-//East Cornwall Harriers - ECPv6.15.20//NONSGML v1.0//EN
CALSCALE:GREGORIAN
METHOD:PUBLISH
X-WR-CALNAME:East Cornwall Harriers
X-ORIGINAL-URL:https://eastcornwallharriers.com
X-WR-CALDESC:Events for East Cornwall Harriers
REFRESH-INTERVAL;VALUE=DURATION:PT1H
X-Robots-Tag:noindex
X-PUBLISHED-TTL:PT1H
BEGIN:VTIMEZONE
TZID:Europe/London
BEGIN:DAYLIGHT
TZOFFSETFROM:+0000
TZOFFSETTO:+0100
TZNAME:BST
DTSTART:20230326T010000
END:DAYLIGHT
BEGIN:STANDARD
TZOFFSETFROM:+0100
TZOFFSETTO:+0000
TZNAME:GMT
DTSTART:20231029T010000
END:STANDARD
BEGIN:DAYLIGHT
TZOFFSETFROM:+0000
TZOFFSETTO:+0100
TZNAME:BST
DTSTART:20240331T010000
END:DAYLIGHT
BEGIN:STANDARD
TZOFFSETFROM:+0100
TZOFFSETTO:+0000
TZNAME:GMT
DTSTART:20241027T010000
END:STANDARD
BEGIN:DAYLIGHT
TZOFFSETFROM:+0000
TZOFFSETTO:+0100
TZNAME:BST
DTSTART:20250330T010000
END:DAYLIGHT
BEGIN:STANDARD
TZOFFSETFROM:+0100
TZOFFSETTO:+0000
TZNAME:GMT
DTSTART:20251026T010000
END:STANDARD
END:VTIMEZONE
BEGIN:VEVENT
DTSTART;VALUE=DATE:20240804
DTEND;VALUE=DATE:20240805
DTSTAMP:20260421T112129
CREATED:20240730T054735Z
LAST-MODIFIED:20240730T055004Z
UID:6226-1722729600-1722815999@eastcornwallharriers.com
SUMMARY:Indian Queens Half (GP9)  & Totnes 10k
DESCRIPTION:
URL:https://eastcornwallharriers.com/event/indian-queens-half-gp9-totnes-10k/
END:VEVENT
BEGIN:VEVENT
DTSTART;TZID=Europe/London:20240804T080000
DTEND;TZID=Europe/London:20240804T080000
DTSTAMP:20260421T112129
CREATED:20240730T054752Z
LAST-MODIFIED:20240730T054752Z
UID:6238-1722758400-1722758400@eastcornwallharriers.com
SUMMARY:Sunday Long Run TBC
DESCRIPTION:Meet TBC – Leader(s) TBC
URL:https://eastcornwallharriers.com/event/sunday-long-run-tbc-31/
END:VEVENT
END:VCALENDAR