BEGIN:VCALENDAR
VERSION:2.0
PRODID:-//East Cornwall Harriers - ECPv6.15.20//NONSGML v1.0//EN
CALSCALE:GREGORIAN
METHOD:PUBLISH
X-ORIGINAL-URL:https://eastcornwallharriers.com
X-WR-CALDESC:Events for East Cornwall Harriers
REFRESH-INTERVAL;VALUE=DURATION:PT1H
X-Robots-Tag:noindex
X-PUBLISHED-TTL:PT1H
BEGIN:VTIMEZONE
TZID:Europe/London
BEGIN:DAYLIGHT
TZOFFSETFROM:+0000
TZOFFSETTO:+0100
TZNAME:BST
DTSTART:20230326T010000
END:DAYLIGHT
BEGIN:STANDARD
TZOFFSETFROM:+0100
TZOFFSETTO:+0000
TZNAME:GMT
DTSTART:20231029T010000
END:STANDARD
BEGIN:DAYLIGHT
TZOFFSETFROM:+0000
TZOFFSETTO:+0100
TZNAME:BST
DTSTART:20240331T010000
END:DAYLIGHT
BEGIN:STANDARD
TZOFFSETFROM:+0100
TZOFFSETTO:+0000
TZNAME:GMT
DTSTART:20241027T010000
END:STANDARD
BEGIN:DAYLIGHT
TZOFFSETFROM:+0000
TZOFFSETTO:+0100
TZNAME:BST
DTSTART:20250330T010000
END:DAYLIGHT
BEGIN:STANDARD
TZOFFSETFROM:+0100
TZOFFSETTO:+0000
TZNAME:GMT
DTSTART:20251026T010000
END:STANDARD
END:VTIMEZONE
BEGIN:VEVENT
DTSTART;TZID=Europe/London:20240815T183000
DTEND;TZID=Europe/London:20240815T183000
DTSTAMP:20260421T102748
CREATED:20240730T054719Z
LAST-MODIFIED:20240730T123612Z
UID:6214-1723746600-1723746600@eastcornwallharriers.com
SUMMARY:Sportsman Pub Multi Terrain Social Evening
DESCRIPTION:Sportsman Pub Multi Terrain Social Evening – 2 Multi Terrain Routes (6/6.5 Miles led by Revis\, 4.5 Miles led by Lucy). Food and social drinks after at the pub (must contact pub direct to order – 01503 240249) @ 6:30 PM Meet Sportsmans Valley Hotel (park in pub carpark or station carpark across the road) – Menheniot – Leader(s) Revis/Lucy
URL:https://eastcornwallharriers.com/event/6-7-mile-run-115/
END:VEVENT
END:VCALENDAR