BEGIN:VCALENDAR
VERSION:2.0
PRODID:-//East Cornwall Harriers - ECPv6.15.20//NONSGML v1.0//EN
CALSCALE:GREGORIAN
METHOD:PUBLISH
X-WR-CALNAME:East Cornwall Harriers
X-ORIGINAL-URL:https://eastcornwallharriers.com
X-WR-CALDESC:Events for East Cornwall Harriers
REFRESH-INTERVAL;VALUE=DURATION:PT1H
X-Robots-Tag:noindex
X-PUBLISHED-TTL:PT1H
BEGIN:VTIMEZONE
TZID:Europe/London
BEGIN:DAYLIGHT
TZOFFSETFROM:+0000
TZOFFSETTO:+0100
TZNAME:BST
DTSTART:20230326T010000
END:DAYLIGHT
BEGIN:STANDARD
TZOFFSETFROM:+0100
TZOFFSETTO:+0000
TZNAME:GMT
DTSTART:20231029T010000
END:STANDARD
BEGIN:DAYLIGHT
TZOFFSETFROM:+0000
TZOFFSETTO:+0100
TZNAME:BST
DTSTART:20240331T010000
END:DAYLIGHT
BEGIN:STANDARD
TZOFFSETFROM:+0100
TZOFFSETTO:+0000
TZNAME:GMT
DTSTART:20241027T010000
END:STANDARD
BEGIN:DAYLIGHT
TZOFFSETFROM:+0000
TZOFFSETTO:+0100
TZNAME:BST
DTSTART:20250330T010000
END:DAYLIGHT
BEGIN:STANDARD
TZOFFSETFROM:+0100
TZOFFSETTO:+0000
TZNAME:GMT
DTSTART:20251026T010000
END:STANDARD
END:VTIMEZONE
BEGIN:VEVENT
DTSTART;TZID=Europe/London:20240903T183000
DTEND;TZID=Europe/London:20240903T183000
DTSTAMP:20260421T121315
CREATED:20240730T054716Z
LAST-MODIFIED:20240902T055154Z
UID:6212-1725388200-1725388200@eastcornwallharriers.com
SUMMARY:5-6 Mile Run
DESCRIPTION:Meet Lux Lower Car Park – Leader(s) Clive
URL:https://eastcornwallharriers.com/event/5-6-mile-run-130/
END:VEVENT
BEGIN:VEVENT
DTSTART;TZID=Europe/London:20240903T183000
DTEND;TZID=Europe/London:20240903T183000
DTSTAMP:20260421T121315
CREATED:20240730T054723Z
LAST-MODIFIED:20240730T054723Z
UID:6221-1725388200-1725388200@eastcornwallharriers.com
SUMMARY:Adults & Juniors Intervals Session on the TRACK
DESCRIPTION:Meet On the School Field – Leader(s) Mark
URL:https://eastcornwallharriers.com/event/adults-juniors-intervals-session-on-the-track-70/
END:VEVENT
BEGIN:VEVENT
DTSTART;TZID=Europe/London:20240903T194500
DTEND;TZID=Europe/London:20240903T194500
DTSTAMP:20260421T121315
CREATED:20240730T054716Z
LAST-MODIFIED:20240730T054716Z
UID:6213-1725392700-1725392700@eastcornwallharriers.com
SUMMARY:Committee Meeting
DESCRIPTION:
URL:https://eastcornwallharriers.com/event/committee-meeting-28/
END:VEVENT
END:VCALENDAR