BEGIN:VCALENDAR
VERSION:2.0
PRODID:-//East Cornwall Harriers - ECPv6.15.19//NONSGML v1.0//EN
CALSCALE:GREGORIAN
METHOD:PUBLISH
X-ORIGINAL-URL:https://eastcornwallharriers.com
X-WR-CALDESC:Events for East Cornwall Harriers
REFRESH-INTERVAL;VALUE=DURATION:PT1H
X-Robots-Tag:noindex
X-PUBLISHED-TTL:PT1H
BEGIN:VTIMEZONE
TZID:Europe/London
BEGIN:DAYLIGHT
TZOFFSETFROM:+0000
TZOFFSETTO:+0100
TZNAME:BST
DTSTART:20240331T010000
END:DAYLIGHT
BEGIN:STANDARD
TZOFFSETFROM:+0100
TZOFFSETTO:+0000
TZNAME:GMT
DTSTART:20241027T010000
END:STANDARD
BEGIN:DAYLIGHT
TZOFFSETFROM:+0000
TZOFFSETTO:+0100
TZNAME:BST
DTSTART:20250330T010000
END:DAYLIGHT
BEGIN:STANDARD
TZOFFSETFROM:+0100
TZOFFSETTO:+0000
TZNAME:GMT
DTSTART:20251026T010000
END:STANDARD
BEGIN:DAYLIGHT
TZOFFSETFROM:+0000
TZOFFSETTO:+0100
TZNAME:BST
DTSTART:20260329T010000
END:DAYLIGHT
BEGIN:STANDARD
TZOFFSETFROM:+0100
TZOFFSETTO:+0000
TZNAME:GMT
DTSTART:20261025T010000
END:STANDARD
END:VTIMEZONE
BEGIN:VEVENT
DTSTART;VALUE=DATE:20250907
DTEND;VALUE=DATE:20250908
DTSTAMP:20260420T131738
CREATED:20250831T231117Z
LAST-MODIFIED:20250831T231254Z
UID:7314-1757203200-1757289599@eastcornwallharriers.com
SUMMARY:Treggy 7 (GP11)
DESCRIPTION:
URL:https://eastcornwallharriers.com/event/treggy-7-gp11-4/
END:VEVENT
BEGIN:VEVENT
DTSTART;TZID=Europe/London:20250907T080000
DTEND;TZID=Europe/London:20250907T080000
DTSTAMP:20260420T131738
CREATED:20250831T231102Z
LAST-MODIFIED:20250928T144618Z
UID:7309-1757232000-1757232000@eastcornwallharriers.com
SUMMARY:Sunday Long Run TBC
DESCRIPTION:Meet TBC – Leader(s) TBC
URL:https://eastcornwallharriers.com/event/sunday-long-run-tbc-81/
END:VEVENT
END:VCALENDAR