BEGIN:VCALENDAR
VERSION:2.0
PRODID:-//East Cornwall Harriers - ECPv6.15.20//NONSGML v1.0//EN
CALSCALE:GREGORIAN
METHOD:PUBLISH
X-WR-CALNAME:East Cornwall Harriers
X-ORIGINAL-URL:https://eastcornwallharriers.com
X-WR-CALDESC:Events for East Cornwall Harriers
REFRESH-INTERVAL;VALUE=DURATION:PT1H
X-Robots-Tag:noindex
X-PUBLISHED-TTL:PT1H
BEGIN:VTIMEZONE
TZID:Europe/London
BEGIN:DAYLIGHT
TZOFFSETFROM:+0000
TZOFFSETTO:+0100
TZNAME:BST
DTSTART:20240331T010000
END:DAYLIGHT
BEGIN:STANDARD
TZOFFSETFROM:+0100
TZOFFSETTO:+0000
TZNAME:GMT
DTSTART:20241027T010000
END:STANDARD
BEGIN:DAYLIGHT
TZOFFSETFROM:+0000
TZOFFSETTO:+0100
TZNAME:BST
DTSTART:20250330T010000
END:DAYLIGHT
BEGIN:STANDARD
TZOFFSETFROM:+0100
TZOFFSETTO:+0000
TZNAME:GMT
DTSTART:20251026T010000
END:STANDARD
BEGIN:DAYLIGHT
TZOFFSETFROM:+0000
TZOFFSETTO:+0100
TZNAME:BST
DTSTART:20260329T010000
END:DAYLIGHT
BEGIN:STANDARD
TZOFFSETFROM:+0100
TZOFFSETTO:+0000
TZNAME:GMT
DTSTART:20261025T010000
END:STANDARD
END:VTIMEZONE
BEGIN:VEVENT
DTSTART;TZID=Europe/London:20251216T183000
DTEND;TZID=Europe/London:20251216T183000
DTSTAMP:20260420T194111
CREATED:20251130T163920Z
LAST-MODIFIED:20251130T163920Z
UID:7559-1765909800-1765909800@eastcornwallharriers.com
SUMMARY:Interval Session (Autumn/Winter)
DESCRIPTION:Meet Lux Lower Car Park – Limes Lane – Leader(s) Chris
URL:https://eastcornwallharriers.com/event/interval-session-autumn-winter-9/
END:VEVENT
BEGIN:VEVENT
DTSTART;TZID=Europe/London:20251216T183000
DTEND;TZID=Europe/London:20251216T183000
DTSTAMP:20260420T194111
CREATED:20251130T163938Z
LAST-MODIFIED:20251130T163938Z
UID:7567-1765909800-1765909800@eastcornwallharriers.com
SUMMARY:Mince Pie & Mulled Wine Run with Craig
DESCRIPTION:Meet Millenium House – Pensilva – Leader(s) Craig
URL:https://eastcornwallharriers.com/event/mince-pie-mulled-wine-run-with-craig/
END:VEVENT
END:VCALENDAR